BEGIN:VCALENDAR
VERSION:2.0
PRODID:-//Fallin Miners Welfare &amp; Social Club - ECPv6.15.17.1//NONSGML v1.0//EN
CALSCALE:GREGORIAN
METHOD:PUBLISH
X-WR-CALNAME:Fallin Miners Welfare &amp; Social Club
X-ORIGINAL-URL:https://www.fallinminerswelfare.org.uk
X-WR-CALDESC:Events for Fallin Miners Welfare &amp; Social Club
REFRESH-INTERVAL;VALUE=DURATION:PT1H
X-Robots-Tag:noindex
X-PUBLISHED-TTL:PT1H
BEGIN:VTIMEZONE
TZID:UTC
BEGIN:STANDARD
TZOFFSETFROM:+0000
TZOFFSETTO:+0000
TZNAME:UTC
DTSTART:20250101T000000
END:STANDARD
END:VTIMEZONE
BEGIN:VEVENT
DTSTART;TZID=UTC:20260508T193000
DTEND;TZID=UTC:20260508T220000
DTSTAMP:20260421T042140
CREATED:20260322T184420Z
LAST-MODIFIED:20260322T200129Z
UID:297-1778268600-1778277600@www.fallinminerswelfare.org.uk
SUMMARY:Jim Clarke Psychic Medium
DESCRIPTION:Jim Clarke Psychic Medium. In aid of the Kids Christmas party. Tickets available from Christine’s Cottage
URL:https://www.fallinminerswelfare.org.uk/event/jim-clarke-psychic-medium/
LOCATION:Fallin Miners Welfare and Social Club\, Main Street\, Fallin\, Stirlingshire\, FK7 7HT\, United Kingdom
ATTACH;FMTTYPE=image/jpeg:https://www.fallinminerswelfare.org.uk/wp-content/uploads/2026/03/Jim-Clarke-8-5-1.jpg
END:VEVENT
END:VCALENDAR