BEGIN:VCALENDAR
VERSION:2.0
PRODID:-//Fallin Miners Welfare &amp; Social Club - ECPv6.15.17.1//NONSGML v1.0//EN
CALSCALE:GREGORIAN
METHOD:PUBLISH
X-ORIGINAL-URL:https://www.fallinminerswelfare.org.uk
X-WR-CALDESC:Events for Fallin Miners Welfare &amp; Social Club
REFRESH-INTERVAL;VALUE=DURATION:PT1H
X-Robots-Tag:noindex
X-PUBLISHED-TTL:PT1H
BEGIN:VTIMEZONE
TZID:UTC
BEGIN:STANDARD
TZOFFSETFROM:+0000
TZOFFSETTO:+0000
TZNAME:UTC
DTSTART:20250101T000000
END:STANDARD
END:VTIMEZONE
BEGIN:VEVENT
DTSTART;TZID=UTC:20260411T000000
DTEND;TZID=UTC:20260411T235959
DTSTAMP:20260421T003822
CREATED:20260319T073026Z
LAST-MODIFIED:20260319T073026Z
UID:248-1775865600-1775951999@www.fallinminerswelfare.org.uk
SUMMARY:Fundraising Event
DESCRIPTION:It’s time to get your tickets! You can collect your event ticket and raffles directly from Fallin Miners or Christine’s Cottage Kitchen \n\n\n\nPlease come along and help us hit our target and support Fallin Miners Welfare Roof Repair Tickets are limited and once they’re gone\, they’re gone… so be quick!  \n\n\n\nIt’s shaping up to be an amazing day full of live entertainment\, fundraising\, raffles\, prizes\, and much more  \n\n\n\nWe’re also still looking for raffle prizes Can’t make the event but still want to support us? Donating a raffle prize would be a massive help and greatly appreciated  \n\n\n\nSo come on everyone… GO GO GO!  \n\n\n\nLet’s get behind our club and help keep it here for many years to come 
URL:https://www.fallinminerswelfare.org.uk/event/fundraising-event/
ATTACH;FMTTYPE=image/jpeg:https://www.fallinminerswelfare.org.uk/wp-content/uploads/2026/03/Fundraising-Event.jpg
END:VEVENT
BEGIN:VEVENT
DTSTART;TZID=UTC:20260328T000000
DTEND;TZID=UTC:20260328T235959
DTSTAMP:20260421T003822
CREATED:20260318T191439Z
LAST-MODIFIED:20260319T072017Z
UID:238-1774656000-1774742399@www.fallinminerswelfare.org.uk
SUMMARY:Day Dancing
DESCRIPTION:Chris Greig will now be joining Toni Bruce to entertain you all at the next Dancing Event. \n\n\n\nBring your own food to if you like.
URL:https://www.fallinminerswelfare.org.uk/event/day-dancing/
LOCATION:Fallin Miners Welfare and Social Club\, Main Street\, Fallin\, Stirlingshire\, FK7 7HT\, United Kingdom
ATTACH;FMTTYPE=image/jpeg:https://www.fallinminerswelfare.org.uk/wp-content/uploads/2026/03/Day-Dancing-28-3.jpg
END:VEVENT
END:VCALENDAR